BEGIN:VCALENDAR
VERSION:2.0
PRODID:-//hacksw/handcal//NONSGML v1.0//EN
CALSCALE:GREGORIAN
BEGIN:VEVENT
LOCATION:キリスト教会\, レンズブルク\, ドイツ
DESCRIPTION:
DTSTART:20260724T193000
SUMMARY:モーツァルト、サディコヴァ、シューマンの作品
URL;VALUE=URI:https://www.kammerphilharmonie.com/ja/experience/concert-calendar/62715/
DTSTAMP:20260425T124805
UID:69ecb805bb3d0
END:VEVENT
END:VCALENDAR