BEGIN:VCALENDAR
VERSION:2.0
PRODID:-//hacksw/handcal//NONSGML v1.0//EN
CALSCALE:GREGORIAN
BEGIN:VEVENT
LOCATION:Christkirche\, Rendsburg\, Deutschland
DESCRIPTION:
DTSTART:20260724T193000
SUMMARY:Werke von Mozart\, Sadikova und Schumann
URL;VALUE=URI:https://www.kammerphilharmonie.com/erleben/konzertkalender/werke-von-mozart-sadikova-und-schumann-4/
DTSTAMP:20260425T112528
UID:69eca4a8f3e9c
END:VEVENT
END:VCALENDAR