BEGIN:VCALENDAR
VERSION:2.0
PRODID:-//hacksw/handcal//NONSGML v1.0//EN
CALSCALE:GREGORIAN
BEGIN:VEVENT
LOCATION:Zech-Tower\, Hansator 20\, Bremen\, Deutschland
DESCRIPTION:
DTSTART:20260516T193000
SUMMARY:Bremer Weltorchester
URL;VALUE=URI:https://www.kammerphilharmonie.com/erleben/konzertkalender/bremer-weltorchester-projekt/
DTSTAMP:20260421T234516
UID:69e80c0c8a0f3
END:VEVENT
END:VCALENDAR