BEGIN:VCALENDAR
VERSION:2.0
PRODID:-//hacksw/handcal//NONSGML v1.0//EN
CALSCALE:GREGORIAN
BEGIN:VEVENT
LOCATION:Christkirche\, Rendsburg\, Deutschland
DESCRIPTION:
DTSTART:20260724T193000
SUMMARY:Works by Mozart\, Sadikova and Schumann
URL;VALUE=URI:https://www.kammerphilharmonie.com/en/experience/concert-calendar/works-by-mozart-sadikova-and-schumann-3/
DTSTAMP:20260425T124928
UID:69ecb85818ba8
END:VEVENT
END:VCALENDAR