BEGIN:VCALENDAR
VERSION:2.0
PRODID:-//hacksw/handcal//NONSGML v1.0//EN
CALSCALE:GREGORIAN
BEGIN:VEVENT
LOCATION:Riga Congress Centre\, Riga\, Latvia
DESCRIPTION:
DTSTART:20260607T193000
SUMMARY:Works by Grieg and Brahms
URL;VALUE=URI:https://www.kammerphilharmonie.com/en/experience/concert-calendar/werke-von-grieg-und-brahms/
DTSTAMP:20260425T102645
UID:69ec96e5024b2
END:VEVENT
END:VCALENDAR