BEGIN:VCALENDAR
VERSION:2.0
PRODID:-//hacksw/handcal//NONSGML v1.0//EN
CALSCALE:GREGORIAN
BEGIN:VEVENT
LOCATION:Zech-Tower\, Hansator 20\, Bremen\, 
DESCRIPTION:
DTSTART:20260516T193000
SUMMARY:The Bremen World Orchestra
URL;VALUE=URI:https://www.kammerphilharmonie.com/en/experience/concert-calendar/bremer-weltorchester-projekt/
DTSTAMP:20260422T011730
UID:69e821aa4602b
END:VEVENT
END:VCALENDAR